BEGIN:VCALENDAR
VERSION:2.0
PRODID:-//hacksw/handcal//NONSGML v1.0//EN
BEGIN:VEVENT
SUMMARY:Match
UID:5c9226c7-346c-495c-bcf7-664e45e28194
DTSTART:20260102T090000Z
DTEND:20260102T130000Z
LOCATION:Localisation   
CATEGORIES:Sportif
STATUS:
DESCRIPTION:Belle victoire de notre equipe ! Rendez-vous samedi pour
 le prochain match. 
URL;VALUE=URI:https://ltp-ac.sportsregions.fr/evenements/2026/01/02/match-2388135
END:VEVENT
BEGIN:VEVENT
SUMMARY:Tournoi regional
UID:f2a2d8b6-1b13-407a-b529-2b4a0f64f319
DTSTART:20260102T090000Z
DTEND:20260102T130000Z
LOCATION:Localisation   
CATEGORIES:Sportif
STATUS:
DESCRIPTION:<p>Le tournoi regional organise par le club aura lieu sur
 le grand stade de la ville a partir de 14h.<br> Trois de nos equipes
 seront en lice dans la competition.
 </p><p>Les prix seront remis en
 soiree.</p>
URL;VALUE=URI:https://ltp-ac.sportsregions.fr/evenements/2026/01/02/tournoi-regional-2388134
END:VEVENT
BEGIN:VEVENT
SUMMARY:Entrainement Equipe 1
UID:baec8448-0737-413a-b8cc-7080716b3513
DTSTART:20260102T180000Z
DTEND:20260102T200000Z
LOCATION:Localisation   
CATEGORIES:Entrainement
STATUS:
DESCRIPTION:Entrainement tactique pour l'equipe 1 ce soir au stade
 Municipal. 
URL;VALUE=URI:https://ltp-ac.sportsregions.fr/evenements/2026/01/02/entrainement-equipe-1-2388136
END:VEVENT
END:VCALENDAR
