BEGIN:VCALENDAR
VERSION:2.0
PRODID:-//hacksw/handcal//NONSGML v1.0//EN
BEGIN:VEVENT
SUMMARY:Match
UID:5c9226c7-346c-495c-bcf7-664e45e28194
DTSTART:20260102T090000Z
DTEND:20260102T130000Z
LOCATION:Localisation   
CATEGORIES:Sportif
STATUS:
DESCRIPTION:Belle victoire de notre equipe ! Rendez-vous samedi pour
 le prochain match. 
URL;VALUE=URI:https://ltp-ac.sportsregions.fr/evenements/2026/01/02/match-2388135
END:VEVENT
END:VCALENDAR
